BEGIN:VCALENDAR
VERSION:2.0
PRODID:PHP
METHOD:REQUEST
X-ORIGINAL-URL:http://npb.nl/wedstrijden-2/competitie?task=team_begegnungen_ical&id=2103
X-WR-CALNAME;VALUE=TEXT:Oud Spaans-G
BEGIN:VEVENT
CLASS:PUBLIC
DTSTART:20220930T180000Z
DURATION:PT2H30M
STATUS:CONFIRMED
SUMMARY:Oud Spaans-G vs. de Sjloes-C
DESCRIPTION:P league A (1. Speeldag)\nErgebnis: 9:15 (8:11)
LOCATION:café Oud Spaans, Spaans Neerbeek 8, 6164 CJ Geleen-06-40765851 / Geen sluiting
UID:SM-B33779@npb.nl
PRIORITY:5
SEQUENCE:1
CATEGORIES:SPORT
DTSTAMP:20260420T075426
BEGIN:VALARM
ACTION:DISPLAY
TRIGGER:-PT2H
END:VALARM
END:VEVENT
BEGIN:VEVENT
CLASS:PUBLIC
DTSTART:20221006T180000Z
DURATION:PT2H30M
STATUS:CONFIRMED
SUMMARY:de Bar-A vs. Oud Spaans-G
DESCRIPTION:P league A (2. Speeldag)\nErgebnis: 15:9 (11:7)
LOCATION:café de Bar, Dorpstraat 92, 6122 CC Buchten-046-4859260 / Di-Wo gesloten
UID:SM-B33789@npb.nl
PRIORITY:5
SEQUENCE:1
CATEGORIES:SPORT
DTSTAMP:20260420T075426
BEGIN:VALARM
ACTION:DISPLAY
TRIGGER:-PT2H
END:VALARM
END:VEVENT
BEGIN:VEVENT
CLASS:PUBLIC
DTSTART:20221102T190000Z
DURATION:PT2H30M
STATUS:CONFIRMED
SUMMARY:Apollo-B vs. Oud Spaans-G
DESCRIPTION:P league A (3. Speeldag)\nErgebnis: 15:9 (11:7)
LOCATION:café Apollo, Industriestr. 19, 6466 GA Kerkrade-045-5414198 / Ma-Di gesloten
UID:SM-B33799@npb.nl
PRIORITY:5
SEQUENCE:1
CATEGORIES:SPORT
DTSTAMP:20260420T075426
BEGIN:VALARM
ACTION:DISPLAY
TRIGGER:-PT2H
END:VALARM
END:VEVENT
BEGIN:VEVENT
CLASS:PUBLIC
DTSTART:20221111T190000Z
DURATION:PT2H30M
STATUS:CONFIRMED
SUMMARY:Oud Spaans-G vs. de Gebroken keu-B
DESCRIPTION:P league A (4. Speeldag)\nErgebnis: 12:12 (9:9)
LOCATION:café Oud Spaans, Spaans Neerbeek 8, 6164 CJ Geleen-06-40765851 / Geen sluiting
UID:SM-B33811@npb.nl
PRIORITY:5
SEQUENCE:1
CATEGORIES:SPORT
DTSTAMP:20260420T075426
BEGIN:VALARM
ACTION:DISPLAY
TRIGGER:-PT2H
END:VALARM
END:VEVENT
BEGIN:VEVENT
CLASS:PUBLIC
DTSTART:20221118T190000Z
DURATION:PT2H30M
STATUS:CONFIRMED
SUMMARY:Oud Spaans-G vs. de Caumerbron-A
DESCRIPTION:P league A (5. Speeldag)\nErgebnis: 18:6 (13:4)
LOCATION:café Oud Spaans, Spaans Neerbeek 8, 6164 CJ Geleen-06-40765851 / Geen sluiting
UID:SM-B33823@npb.nl
PRIORITY:5
SEQUENCE:1
CATEGORIES:SPORT
DTSTAMP:20260420T075426
BEGIN:VALARM
ACTION:DISPLAY
TRIGGER:-PT2H
END:VALARM
END:VEVENT
BEGIN:VEVENT
CLASS:PUBLIC
DTSTART:20221125T190000Z
DURATION:PT2H30M
STATUS:CONFIRMED
SUMMARY:`t Steenenkruis-A vs. Oud Spaans-G
DESCRIPTION:P league A (6. Speeldag)\nErgebnis: 12:12 (12:10)
LOCATION:café Steenenkruis, Maastrichterlaan 2, 6374 VR Landgraaf-06-40872821 / Ma gesloten
UID:SM-B33833@npb.nl
PRIORITY:5
SEQUENCE:1
CATEGORIES:SPORT
DTSTAMP:20260420T075426
BEGIN:VALARM
ACTION:DISPLAY
TRIGGER:-PT2H
END:VALARM
END:VEVENT
BEGIN:VEVENT
CLASS:PUBLIC
DTSTART:20221202T190000Z
DURATION:PT2H30M
STATUS:CONFIRMED
SUMMARY:Oud Spaans-G vs. De Sport-C
DESCRIPTION:P league A (7. Speeldag)\nErgebnis: 9:15 (7:11)
LOCATION:café Oud Spaans, Spaans Neerbeek 8, 6164 CJ Geleen-06-40765851 / Geen sluiting
UID:SM-B33853@npb.nl
PRIORITY:5
SEQUENCE:1
CATEGORIES:SPORT
DTSTAMP:20260420T075426
BEGIN:VALARM
ACTION:DISPLAY
TRIGGER:-PT2H
END:VALARM
END:VEVENT
BEGIN:VEVENT
CLASS:PUBLIC
DTSTART:20221206T190000Z
DURATION:PT2H30M
STATUS:CONFIRMED
SUMMARY:`t Lauradorp-A vs. Oud Spaans-G
DESCRIPTION:P league A (8. Speeldag)\nErgebnis: 6:18 (6:12)
LOCATION:café Steenenkruis, Maastrichterlaan 2, 6374 VR Landgraaf-06-40872821 / Ma gesloten
UID:SM-B33863@npb.nl
PRIORITY:5
SEQUENCE:1
CATEGORIES:SPORT
DTSTAMP:20260420T075426
BEGIN:VALARM
ACTION:DISPLAY
TRIGGER:-PT2H
END:VALARM
END:VEVENT
BEGIN:VEVENT
CLASS:PUBLIC
DTSTART:20221212T190000Z
DURATION:PT2H30M
STATUS:CONFIRMED
SUMMARY:de Bar-B vs. Oud Spaans-G
DESCRIPTION:P league A (9. Speeldag)\nErgebnis: 9:15 (7:11)
LOCATION:café de Bar, Dorpstraat 92, 6122 CC Buchten-046-4859260 / Di-Wo gesloten
UID:SM-B33869@npb.nl
PRIORITY:5
SEQUENCE:1
CATEGORIES:SPORT
DTSTAMP:20260420T075426
BEGIN:VALARM
ACTION:DISPLAY
TRIGGER:-PT2H
END:VALARM
END:VEVENT
BEGIN:VEVENT
CLASS:PUBLIC
DTSTART:20230105T190000Z
DURATION:PT2H30M
STATUS:CONFIRMED
SUMMARY:Oud Spaans-G vs. de Bar-A
DESCRIPTION:Beker `t Patronaat (3. Ronde)\nErgebnis: 8:16 (66:80)
LOCATION:café Oud Spaans, Spaans Neerbeek 8, 6164 CJ Geleen-06-40765851 / Geen sluiting
UID:SM-B34459@npb.nl
PRIORITY:5
SEQUENCE:1
CATEGORIES:SPORT
DTSTAMP:20260420T075426
BEGIN:VALARM
ACTION:DISPLAY
TRIGGER:-PT2H
END:VALARM
END:VEVENT
BEGIN:VEVENT
CLASS:PUBLIC
DTSTART:20230113T190000Z
DURATION:PT2H30M
STATUS:CONFIRMED
SUMMARY:Oud Spaans-G vs. De Sport-B
DESCRIPTION:P league A (10. Speeldag)\nErgebnis: 6:18 (10:12)
LOCATION:café Oud Spaans, Spaans Neerbeek 8, 6164 CJ Geleen-06-40765851 / Geen sluiting
UID:SM-B33881@npb.nl
PRIORITY:5
SEQUENCE:1
CATEGORIES:SPORT
DTSTAMP:20260420T075426
BEGIN:VALARM
ACTION:DISPLAY
TRIGGER:-PT2H
END:VALARM
END:VEVENT
BEGIN:VEVENT
CLASS:PUBLIC
DTSTART:20230127T190000Z
DURATION:PT2H30M
STATUS:CONFIRMED
SUMMARY:de Sjloes-C vs. Oud Spaans-G
DESCRIPTION:P league A (12. Speeldag)\nErgebnis: 15:9 (12:8)
LOCATION:café de Sjloes, Sluisweg 19, 6121 JR Born-06-23314436 / Ma-Di gesloten
UID:SM-B33780@npb.nl
PRIORITY:5
SEQUENCE:1
CATEGORIES:SPORT
DTSTAMP:20260420T075426
BEGIN:VALARM
ACTION:DISPLAY
TRIGGER:-PT2H
END:VALARM
END:VEVENT
BEGIN:VEVENT
CLASS:PUBLIC
DTSTART:20230202T190000Z
DURATION:PT2H30M
STATUS:CONFIRMED
SUMMARY:Oud Spaans-G vs. de Bar-A
DESCRIPTION:P league A (13. Speeldag)\nErgebnis: 0:24 (6:16)
LOCATION:café Oud Spaans, Spaans Neerbeek 8, 6164 CJ Geleen-06-40765851 / Geen sluiting
UID:SM-B33790@npb.nl
PRIORITY:5
SEQUENCE:1
CATEGORIES:SPORT
DTSTAMP:20260420T075426
BEGIN:VALARM
ACTION:DISPLAY
TRIGGER:-PT2H
END:VALARM
END:VEVENT
BEGIN:VEVENT
CLASS:PUBLIC
DTSTART:20230210T190000Z
DURATION:PT2H30M
STATUS:CONFIRMED
SUMMARY:Oud Spaans-G vs. Apollo-B
DESCRIPTION:P league A (14. Speeldag)\nErgebnis: 12:12 (11:11)
LOCATION:café Oud Spaans, Spaans Neerbeek 8, 6164 CJ Geleen-06-40765851 / Geen sluiting
UID:SM-B33800@npb.nl
PRIORITY:5
SEQUENCE:1
CATEGORIES:SPORT
DTSTAMP:20260420T075426
BEGIN:VALARM
ACTION:DISPLAY
TRIGGER:-PT2H
END:VALARM
END:VEVENT
BEGIN:VEVENT
CLASS:PUBLIC
DTSTART:20230216T190000Z
DURATION:PT2H30M
STATUS:CONFIRMED
SUMMARY:Oud Spaans-G vs. `t Eikske-B
DESCRIPTION:P league A (11. Speeldag)\nErgebnis: 9:15 (9:12)
LOCATION:café Oud Spaans, Spaans Neerbeek 8, 6164 CJ Geleen-06-40765851 / Geen sluiting
UID:SM-B33901@npb.nl
PRIORITY:5
SEQUENCE:1
CATEGORIES:SPORT
DTSTAMP:20260420T075426
BEGIN:VALARM
ACTION:DISPLAY
TRIGGER:-PT2H
END:VALARM
END:VEVENT
BEGIN:VEVENT
CLASS:PUBLIC
DTSTART:20230217T190000Z
DURATION:PT2H30M
STATUS:CONFIRMED
SUMMARY:Oud Spaans-G vs. vrijlot
DESCRIPTION:Beker `t Patronaat PL (1. Ronde)\nErgebnis: 2:0 (2:0)
LOCATION:café Oud Spaans, Spaans Neerbeek 8, 6164 CJ Geleen-06-40765851 / Geen sluiting
UID:SM-B34517@npb.nl
PRIORITY:5
SEQUENCE:1
CATEGORIES:SPORT
DTSTAMP:20260420T075426
BEGIN:VALARM
ACTION:DISPLAY
TRIGGER:-PT2H
END:VALARM
END:VEVENT
BEGIN:VEVENT
CLASS:PUBLIC
DTSTART:20230307T190000Z
DURATION:PT2H30M
STATUS:CONFIRMED
SUMMARY:de Gebroken keu-B vs. Oud Spaans-G
DESCRIPTION:P league A (15. Speeldag)\nErgebnis: 18:6 (12:7)
LOCATION:Leo's café (Gebr Keu), Brugweg 6, 6102 TK Echt-pey-0475-482818 / Do gesloten
UID:SM-B33812@npb.nl
PRIORITY:5
SEQUENCE:1
CATEGORIES:SPORT
DTSTAMP:20260420T075426
BEGIN:VALARM
ACTION:DISPLAY
TRIGGER:-PT2H
END:VALARM
END:VEVENT
BEGIN:VEVENT
CLASS:PUBLIC
DTSTART:20230315T190000Z
DURATION:PT2H30M
STATUS:CONFIRMED
SUMMARY:de Caumerbron-A vs. Oud Spaans-G
DESCRIPTION:P league A (16. Speeldag)\nErgebnis: 15:9 (10:8)
LOCATION:café de Caumerbron, Corisbergweg 197, 6418CV Heerlen-06-47672258 / Do gesloten
UID:SM-B33824@npb.nl
PRIORITY:5
SEQUENCE:1
CATEGORIES:SPORT
DTSTAMP:20260420T075426
BEGIN:VALARM
ACTION:DISPLAY
TRIGGER:-PT2H
END:VALARM
END:VEVENT
BEGIN:VEVENT
CLASS:PUBLIC
DTSTART:20230324T190000Z
DURATION:PT2H30M
STATUS:CONFIRMED
SUMMARY:Oud Spaans-G vs. `t Steenenkruis-A
DESCRIPTION:P league A (17. Speeldag)\nErgebnis: 12:12 (10:9)
LOCATION:café Oud Spaans, Spaans Neerbeek 8, 6164 CJ Geleen-06-40765851 / Geen sluiting
UID:SM-B33834@npb.nl
PRIORITY:5
SEQUENCE:1
CATEGORIES:SPORT
DTSTAMP:20260420T075426
BEGIN:VALARM
ACTION:DISPLAY
TRIGGER:-PT2H
END:VALARM
END:VEVENT
BEGIN:VEVENT
CLASS:PUBLIC
DTSTART:20230405T180000Z
DURATION:PT2H30M
STATUS:CONFIRMED
SUMMARY:de Caumerbron-A vs. Oud Spaans-G
DESCRIPTION:Beker `t Patronaat PL (2. Ronde)\nErgebnis: 16:8 (82:71)
LOCATION:café de Caumerbron, Corisbergweg 197, 6418CV Heerlen-06-47672258 / Do gesloten
UID:SM-B34608@npb.nl
PRIORITY:5
SEQUENCE:1
CATEGORIES:SPORT
DTSTAMP:20260420T075426
BEGIN:VALARM
ACTION:DISPLAY
TRIGGER:-PT2H
END:VALARM
END:VEVENT
BEGIN:VEVENT
CLASS:PUBLIC
DTSTART:20230420T180000Z
DURATION:PT2H30M
STATUS:CONFIRMED
SUMMARY:De Sport-C vs. Oud Spaans-G
DESCRIPTION:P league A (18. Speeldag)\nErgebnis: 12:12 (11:9)
UID:SM-B33854@npb.nl
PRIORITY:5
SEQUENCE:1
CATEGORIES:SPORT
DTSTAMP:20260420T075426
BEGIN:VALARM
ACTION:DISPLAY
TRIGGER:-PT2H
END:VALARM
END:VEVENT
BEGIN:VEVENT
CLASS:PUBLIC
DTSTART:20230421T180000Z
DURATION:PT2H30M
STATUS:CONFIRMED
SUMMARY:Oud Spaans-G vs. `t Lauradorp-A
DESCRIPTION:P league A (19. Speeldag)\nErgebnis: 9:15 (7:11)
LOCATION:café Oud Spaans, Spaans Neerbeek 8, 6164 CJ Geleen-06-40765851 / Geen sluiting
UID:SM-B33864@npb.nl
PRIORITY:5
SEQUENCE:1
CATEGORIES:SPORT
DTSTAMP:20260420T075426
BEGIN:VALARM
ACTION:DISPLAY
TRIGGER:-PT2H
END:VALARM
END:VEVENT
BEGIN:VEVENT
CLASS:PUBLIC
DTSTART:20230519T180000Z
DURATION:PT2H30M
STATUS:CONFIRMED
SUMMARY:Oud Spaans-G vs. de Bar-B
DESCRIPTION:P league A (20. Speeldag)\nErgebnis: 9:15 (9:11)
LOCATION:café Oud Spaans, Spaans Neerbeek 8, 6164 CJ Geleen-06-40765851 / Geen sluiting
UID:SM-B33870@npb.nl
PRIORITY:5
SEQUENCE:1
CATEGORIES:SPORT
DTSTAMP:20260420T075426
BEGIN:VALARM
ACTION:DISPLAY
TRIGGER:-PT2H
END:VALARM
END:VEVENT
BEGIN:VEVENT
CLASS:PUBLIC
DTSTART:20230531T180000Z
DURATION:PT2H30M
STATUS:CONFIRMED
SUMMARY:De Sport-B vs. Oud Spaans-G
DESCRIPTION:P league A (21. Speeldag)\nErgebnis: 15:9 (13:8)
UID:SM-B33882@npb.nl
PRIORITY:5
SEQUENCE:1
CATEGORIES:SPORT
DTSTAMP:20260420T075426
BEGIN:VALARM
ACTION:DISPLAY
TRIGGER:-PT2H
END:VALARM
END:VEVENT
BEGIN:VEVENT
CLASS:PUBLIC
DTSTART:20230608T180000Z
DURATION:PT2H30M
STATUS:CONFIRMED
SUMMARY:`t Eikske-B vs. Oud Spaans-G
DESCRIPTION:P league A (22. Speeldag)\nErgebnis: 15:9 (15:9)
LOCATION:Café De Heksenberg, Roebroekweg 44, 6414BC Heerlen-06-34096364 / Ma gesloten
UID:SM-B33902@npb.nl
PRIORITY:5
SEQUENCE:1
CATEGORIES:SPORT
DTSTAMP:20260420T075426
BEGIN:VALARM
ACTION:DISPLAY
TRIGGER:-PT2H
END:VALARM
END:VEVENT
END:VCALENDAR
