BEGIN:VCALENDAR
VERSION:2.0
PRODID:PHP
METHOD:REQUEST
X-ORIGINAL-URL:http://npb.nl/uitslag?task=team_begegnungen_ical&id=371
X-WR-CALNAME;VALUE=TEXT:Slek-B
BEGIN:VEVENT
CLASS:PUBLIC
DTSTART:20190926T180000Z
DURATION:PT2H30M
STATUS:CONFIRMED
SUMMARY:de Lounge-A vs. Slek-B
DESCRIPTION:2e League G (1. Speeldag)\nErgebnis: 14:10 (14:10)
UID:SM-B15606@npb.nl
PRIORITY:5
SEQUENCE:1
CATEGORIES:SPORT
DTSTAMP:20260424T233816
END:VEVENT
BEGIN:VEVENT
CLASS:PUBLIC
DTSTART:20191001T180000Z
DURATION:PT2H30M
STATUS:CONFIRMED
SUMMARY:Slek-B vs. Oud Spaans-G
DESCRIPTION:2e League G (2. Speeldag)\nErgebnis: 16:8 (16:8)
UID:SM-B15610@npb.nl
PRIORITY:5
SEQUENCE:1
CATEGORIES:SPORT
DTSTAMP:20260424T233816
END:VEVENT
BEGIN:VEVENT
CLASS:PUBLIC
DTSTART:20191010T180000Z
DURATION:PT2H30M
STATUS:CONFIRMED
SUMMARY:Oud Spaans-D vs. Slek-B
DESCRIPTION:2e League G (3. Speeldag)\nErgebnis: 12:12 (12:12)
UID:SM-B15617@npb.nl
PRIORITY:5
SEQUENCE:1
CATEGORIES:SPORT
DTSTAMP:20260424T233816
END:VEVENT
BEGIN:VEVENT
CLASS:PUBLIC
DTSTART:20191022T180000Z
DURATION:PT2H30M
STATUS:CONFIRMED
SUMMARY:Slek-B vs. In de Vrie-D
DESCRIPTION:2e League G (4. Speeldag)\nErgebnis: 18:6 (18:6)
UID:SM-B15622@npb.nl
PRIORITY:5
SEQUENCE:1
CATEGORIES:SPORT
DTSTAMP:20260424T233816
END:VEVENT
BEGIN:VEVENT
CLASS:PUBLIC
DTSTART:20191101T190000Z
DURATION:PT2H30M
STATUS:CONFIRMED
SUMMARY:de Reunie-D vs. Slek-B
DESCRIPTION:2e League G (5. Speeldag)\nErgebnis: 4:20 (4:20)
UID:SM-B15632@npb.nl
PRIORITY:5
SEQUENCE:1
CATEGORIES:SPORT
DTSTAMP:20260424T233816
END:VEVENT
BEGIN:VEVENT
CLASS:PUBLIC
DTSTART:20191105T190000Z
DURATION:PT2H30M
STATUS:CONFIRMED
SUMMARY:Slek-B vs. de Sjloes-E
DESCRIPTION:2e League G (6. Speeldag)\nErgebnis: 20:4 (20:4)
UID:SM-B15633@npb.nl
PRIORITY:5
SEQUENCE:1
CATEGORIES:SPORT
DTSTAMP:20260424T233816
END:VEVENT
BEGIN:VEVENT
CLASS:PUBLIC
DTSTART:20191115T190000Z
DURATION:PT2H30M
STATUS:CONFIRMED
SUMMARY:Mofert-A vs. Slek-B
DESCRIPTION:2e League G (7. Speeldag)\nErgebnis: 14:10 (14:10)
UID:SM-B15643@npb.nl
PRIORITY:5
SEQUENCE:1
CATEGORIES:SPORT
DTSTAMP:20260424T233816
END:VEVENT
BEGIN:VEVENT
CLASS:PUBLIC
DTSTART:20191119T190000Z
DURATION:PT2H30M
STATUS:CONFIRMED
SUMMARY:Slek-B vs. `t Volkshoes-A
DESCRIPTION:2e League G (8. Speeldag)\nErgebnis: 16:8 (16:8)
UID:SM-B15645@npb.nl
PRIORITY:5
SEQUENCE:1
CATEGORIES:SPORT
DTSTAMP:20260424T233816
END:VEVENT
BEGIN:VEVENT
CLASS:PUBLIC
DTSTART:20191127T190000Z
DURATION:PT2H30M
STATUS:CONFIRMED
SUMMARY:t Centrum-A vs. Slek-B
DESCRIPTION:2e League G (9. Speeldag)\nErgebnis: 14:10 (14:10)
UID:SM-B15653@npb.nl
PRIORITY:5
SEQUENCE:1
CATEGORIES:SPORT
DTSTAMP:20260424T233816
END:VEVENT
BEGIN:VEVENT
CLASS:PUBLIC
DTSTART:20191203T190000Z
DURATION:PT2H30M
STATUS:CONFIRMED
SUMMARY:Slek-B vs. de Reunie-B
DESCRIPTION:2e League G (10. Speeldag)\nErgebnis: 22:2 (22:2)
UID:SM-B15657@npb.nl
PRIORITY:5
SEQUENCE:1
CATEGORIES:SPORT
DTSTAMP:20260424T233816
END:VEVENT
BEGIN:VEVENT
CLASS:PUBLIC
DTSTART:20191213T190000Z
DURATION:PT2H30M
STATUS:CONFIRMED
SUMMARY:Kroegje-B vs. Slek-B
DESCRIPTION:2e League G (11. Speeldag)\nErgebnis: 8:16 (8:16)
UID:SM-B15668@npb.nl
PRIORITY:5
SEQUENCE:1
CATEGORIES:SPORT
DTSTAMP:20260424T233816
END:VEVENT
BEGIN:VEVENT
CLASS:PUBLIC
DTSTART:20200114T190000Z
DURATION:PT2H30M
STATUS:CONFIRMED
SUMMARY:Slek-B vs. de Lounge-A
DESCRIPTION:2e League G (12. Speeldag)\nErgebnis: 18:6 (18:6)
UID:SM-B15670@npb.nl
PRIORITY:5
SEQUENCE:1
CATEGORIES:SPORT
DTSTAMP:20260424T233816
END:VEVENT
BEGIN:VEVENT
CLASS:PUBLIC
DTSTART:20200124T190000Z
DURATION:PT2H30M
STATUS:CONFIRMED
SUMMARY:Oud Spaans-G vs. Slek-B
DESCRIPTION:2e League G (13. Speeldag)\nErgebnis: 12:12 (12:12)
UID:SM-B15679@npb.nl
PRIORITY:5
SEQUENCE:1
CATEGORIES:SPORT
DTSTAMP:20260424T233816
END:VEVENT
BEGIN:VEVENT
CLASS:PUBLIC
DTSTART:20200128T190000Z
DURATION:PT2H30M
STATUS:CONFIRMED
SUMMARY:Slek-B vs. Oud Spaans-D
DESCRIPTION:2e League G (14. Speeldag)\nErgebnis: 10:14 (10:14)
UID:SM-B15682@npb.nl
PRIORITY:5
SEQUENCE:1
CATEGORIES:SPORT
DTSTAMP:20260424T233816
END:VEVENT
BEGIN:VEVENT
CLASS:PUBLIC
DTSTART:20200205T190000Z
DURATION:PT2H30M
STATUS:CONFIRMED
SUMMARY:In de Vrie-D vs. Slek-B
DESCRIPTION:2e League G (15. Speeldag)\nErgebnis: 8:16 (8:16)
UID:SM-B15688@npb.nl
PRIORITY:5
SEQUENCE:1
CATEGORIES:SPORT
DTSTAMP:20260424T233816
END:VEVENT
BEGIN:VEVENT
CLASS:PUBLIC
DTSTART:20200310T190000Z
DURATION:PT2H30M
STATUS:CONFIRMED
SUMMARY:Slek-B vs. de Reunie-D
DESCRIPTION:2e League G (16. Speeldag)\nErgebnis: 22:2 (22:2)
UID:SM-B15693@npb.nl
PRIORITY:5
SEQUENCE:1
CATEGORIES:SPORT
DTSTAMP:20260424T233816
END:VEVENT
END:VCALENDAR
