BEGIN:VCALENDAR
VERSION:2.0
PRODID:PHP
METHOD:REQUEST
X-ORIGINAL-URL:http://npb.nl/uitslag?task=team_begegnungen_ical&id=369
X-WR-CALNAME;VALUE=TEXT:Mofert-A
BEGIN:VEVENT
CLASS:PUBLIC
DTSTART:20190925T180000Z
DURATION:PT2H30M
STATUS:CONFIRMED
SUMMARY:de Sjloes-E vs. Mofert-A
DESCRIPTION:2e League G (1. Speeldag)\nErgebnis: 6:18 (6:18)
UID:SM-B15603@npb.nl
PRIORITY:5
SEQUENCE:1
CATEGORIES:SPORT
DTSTAMP:20260424T234454
END:VEVENT
BEGIN:VEVENT
CLASS:PUBLIC
DTSTART:20191004T180000Z
DURATION:PT2H30M
STATUS:CONFIRMED
SUMMARY:Mofert-A vs. de Lounge-A
DESCRIPTION:2e League G (2. Speeldag)\nErgebnis: 8:16 (8:16)
UID:SM-B15613@npb.nl
PRIORITY:5
SEQUENCE:1
CATEGORIES:SPORT
DTSTAMP:20260424T234454
END:VEVENT
BEGIN:VEVENT
CLASS:PUBLIC
DTSTART:20191011T180000Z
DURATION:PT2H30M
STATUS:CONFIRMED
SUMMARY:Mofert-A vs. `t Volkshoes-A
DESCRIPTION:2e League G (3. Speeldag)\nErgebnis: 14:10 (14:10)
UID:SM-B15619@npb.nl
PRIORITY:5
SEQUENCE:1
CATEGORIES:SPORT
DTSTAMP:20260424T234454
END:VEVENT
BEGIN:VEVENT
CLASS:PUBLIC
DTSTART:20191023T180000Z
DURATION:PT2H30M
STATUS:CONFIRMED
SUMMARY:t Centrum-A vs. Mofert-A
DESCRIPTION:2e League G (4. Speeldag)\nErgebnis: 18:6 (18:6)
UID:SM-B15623@npb.nl
PRIORITY:5
SEQUENCE:1
CATEGORIES:SPORT
DTSTAMP:20260424T234454
END:VEVENT
BEGIN:VEVENT
CLASS:PUBLIC
DTSTART:20191101T190000Z
DURATION:PT2H30M
STATUS:CONFIRMED
SUMMARY:Mofert-A vs. de Reunie-B
DESCRIPTION:2e League G (5. Speeldag)\nErgebnis: 14:10 (14:10)
UID:SM-B15631@npb.nl
PRIORITY:5
SEQUENCE:1
CATEGORIES:SPORT
DTSTAMP:20260424T234454
END:VEVENT
BEGIN:VEVENT
CLASS:PUBLIC
DTSTART:20191108T190000Z
DURATION:PT2H30M
STATUS:CONFIRMED
SUMMARY:Kroegje-B vs. Mofert-A
DESCRIPTION:2e League G (6. Speeldag)\nErgebnis: 24:0 (24:0)
UID:SM-B15637@npb.nl
PRIORITY:5
SEQUENCE:1
CATEGORIES:SPORT
DTSTAMP:20260424T234454
END:VEVENT
BEGIN:VEVENT
CLASS:PUBLIC
DTSTART:20191115T190000Z
DURATION:PT2H30M
STATUS:CONFIRMED
SUMMARY:Mofert-A vs. Slek-B
DESCRIPTION:2e League G (7. Speeldag)\nErgebnis: 14:10 (14:10)
UID:SM-B15643@npb.nl
PRIORITY:5
SEQUENCE:1
CATEGORIES:SPORT
DTSTAMP:20260424T234454
END:VEVENT
BEGIN:VEVENT
CLASS:PUBLIC
DTSTART:20191122T190000Z
DURATION:PT2H30M
STATUS:CONFIRMED
SUMMARY:Oud Spaans-G vs. Mofert-A
DESCRIPTION:2e League G (8. Speeldag)\nErgebnis: 14:10 (14:10)
UID:SM-B15649@npb.nl
PRIORITY:5
SEQUENCE:1
CATEGORIES:SPORT
DTSTAMP:20260424T234454
END:VEVENT
BEGIN:VEVENT
CLASS:PUBLIC
DTSTART:20191129T190000Z
DURATION:PT2H30M
STATUS:CONFIRMED
SUMMARY:Mofert-A vs. Oud Spaans-D
DESCRIPTION:2e League G (9. Speeldag)\nErgebnis: 14:10 (14:10)
UID:SM-B15656@npb.nl
PRIORITY:5
SEQUENCE:1
CATEGORIES:SPORT
DTSTAMP:20260424T234454
END:VEVENT
BEGIN:VEVENT
CLASS:PUBLIC
DTSTART:20191204T190000Z
DURATION:PT2H30M
STATUS:CONFIRMED
SUMMARY:In de Vrie-D vs. Mofert-A
DESCRIPTION:2e League G (10. Speeldag)\nErgebnis: 16:8 (16:8)
UID:SM-B15658@npb.nl
PRIORITY:5
SEQUENCE:1
CATEGORIES:SPORT
DTSTAMP:20260424T234454
END:VEVENT
BEGIN:VEVENT
CLASS:PUBLIC
DTSTART:20191213T190000Z
DURATION:PT2H30M
STATUS:CONFIRMED
SUMMARY:Mofert-A vs. de Reunie-D
DESCRIPTION:2e League G (11. Speeldag)\nErgebnis: 16:8 (16:8)
UID:SM-B15667@npb.nl
PRIORITY:5
SEQUENCE:1
CATEGORIES:SPORT
DTSTAMP:20260424T234454
END:VEVENT
BEGIN:VEVENT
CLASS:PUBLIC
DTSTART:20200117T190000Z
DURATION:PT2H30M
STATUS:CONFIRMED
SUMMARY:Mofert-A vs. de Sjloes-E
DESCRIPTION:2e League G (12. Speeldag)\nErgebnis: 18:6 (18:6)
UID:SM-B15674@npb.nl
PRIORITY:5
SEQUENCE:1
CATEGORIES:SPORT
DTSTAMP:20260424T234454
END:VEVENT
BEGIN:VEVENT
CLASS:PUBLIC
DTSTART:20200123T190000Z
DURATION:PT2H30M
STATUS:CONFIRMED
SUMMARY:de Lounge-A vs. Mofert-A
DESCRIPTION:2e League G (13. Speeldag)\nErgebnis: 12:12 (12:12)
UID:SM-B15677@npb.nl
PRIORITY:5
SEQUENCE:1
CATEGORIES:SPORT
DTSTAMP:20260424T234454
END:VEVENT
BEGIN:VEVENT
CLASS:PUBLIC
DTSTART:20200127T190000Z
DURATION:PT2H30M
STATUS:CONFIRMED
SUMMARY:`t Volkshoes-A vs. Mofert-A
DESCRIPTION:2e League G (14. Speeldag)\nErgebnis: 14:10 (14:10)
UID:SM-B15681@npb.nl
PRIORITY:5
SEQUENCE:1
CATEGORIES:SPORT
DTSTAMP:20260424T234454
END:VEVENT
BEGIN:VEVENT
CLASS:PUBLIC
DTSTART:20200207T190000Z
DURATION:PT2H30M
STATUS:CONFIRMED
SUMMARY:Mofert-A vs. t Centrum-A
DESCRIPTION:2e League G (15. Speeldag)\nErgebnis: 6:18 (6:18)
UID:SM-B15691@npb.nl
PRIORITY:5
SEQUENCE:1
CATEGORIES:SPORT
DTSTAMP:20260424T234454
END:VEVENT
BEGIN:VEVENT
CLASS:PUBLIC
DTSTART:20200311T190000Z
DURATION:PT2H30M
STATUS:CONFIRMED
SUMMARY:de Reunie-B vs. Mofert-A
DESCRIPTION:2e League G (16. Speeldag)\nErgebnis: 16:8 (16:8)
UID:SM-B15694@npb.nl
PRIORITY:5
SEQUENCE:1
CATEGORIES:SPORT
DTSTAMP:20260424T234454
END:VEVENT
END:VCALENDAR
