BEGIN:VCALENDAR
VERSION:2.0
PRODID:PHP
METHOD:REQUEST
X-ORIGINAL-URL:http://npb.nl/uitslag?task=team_begegnungen_ical&id=368
X-WR-CALNAME;VALUE=TEXT:de Reunie-B
BEGIN:VEVENT
CLASS:PUBLIC
DTSTART:20190926T180000Z
DURATION:PT2H30M
STATUS:CONFIRMED
SUMMARY:Oud Spaans-D vs. de Reunie-B
DESCRIPTION:2e League G (1. Speeldag)\nErgebnis: 16:8 (16:8)
UID:SM-B15605@npb.nl
PRIORITY:5
SEQUENCE:1
CATEGORIES:SPORT
DTSTAMP:20260425T004847
BEGIN:VALARM
ACTION:DISPLAY
TRIGGER:-PT2H
END:VALARM
END:VEVENT
BEGIN:VEVENT
CLASS:PUBLIC
DTSTART:20191002T180000Z
DURATION:PT2H30M
STATUS:CONFIRMED
SUMMARY:de Reunie-B vs. In de Vrie-D
DESCRIPTION:2e League G (2. Speeldag)\nErgebnis: 18:6 (18:6)
UID:SM-B15612@npb.nl
PRIORITY:5
SEQUENCE:1
CATEGORIES:SPORT
DTSTAMP:20260425T004847
BEGIN:VALARM
ACTION:DISPLAY
TRIGGER:-PT2H
END:VALARM
END:VEVENT
BEGIN:VEVENT
CLASS:PUBLIC
DTSTART:20191011T180000Z
DURATION:PT2H30M
STATUS:CONFIRMED
SUMMARY:de Reunie-D vs. de Reunie-B
DESCRIPTION:2e League G (3. Speeldag)\nErgebnis: 12:12 (12:12)
UID:SM-B15620@npb.nl
PRIORITY:5
SEQUENCE:1
CATEGORIES:SPORT
DTSTAMP:20260425T004847
BEGIN:VALARM
ACTION:DISPLAY
TRIGGER:-PT2H
END:VALARM
END:VEVENT
BEGIN:VEVENT
CLASS:PUBLIC
DTSTART:20191023T180000Z
DURATION:PT2H30M
STATUS:CONFIRMED
SUMMARY:de Reunie-B vs. de Sjloes-E
DESCRIPTION:2e League G (4. Speeldag)\nErgebnis: 20:4 (20:4)
UID:SM-B15624@npb.nl
PRIORITY:5
SEQUENCE:1
CATEGORIES:SPORT
DTSTAMP:20260425T004847
BEGIN:VALARM
ACTION:DISPLAY
TRIGGER:-PT2H
END:VALARM
END:VEVENT
BEGIN:VEVENT
CLASS:PUBLIC
DTSTART:20191101T190000Z
DURATION:PT2H30M
STATUS:CONFIRMED
SUMMARY:Mofert-A vs. de Reunie-B
DESCRIPTION:2e League G (5. Speeldag)\nErgebnis: 14:10 (14:10)
UID:SM-B15631@npb.nl
PRIORITY:5
SEQUENCE:1
CATEGORIES:SPORT
DTSTAMP:20260425T004847
BEGIN:VALARM
ACTION:DISPLAY
TRIGGER:-PT2H
END:VALARM
END:VEVENT
BEGIN:VEVENT
CLASS:PUBLIC
DTSTART:20191106T190000Z
DURATION:PT2H30M
STATUS:CONFIRMED
SUMMARY:de Reunie-B vs. `t Volkshoes-A
DESCRIPTION:2e League G (6. Speeldag)\nErgebnis: 18:6 (18:6)
UID:SM-B15635@npb.nl
PRIORITY:5
SEQUENCE:1
CATEGORIES:SPORT
DTSTAMP:20260425T004847
BEGIN:VALARM
ACTION:DISPLAY
TRIGGER:-PT2H
END:VALARM
END:VEVENT
BEGIN:VEVENT
CLASS:PUBLIC
DTSTART:20191113T190000Z
DURATION:PT2H30M
STATUS:CONFIRMED
SUMMARY:t Centrum-A vs. de Reunie-B
DESCRIPTION:2e League G (7. Speeldag)\nErgebnis: 10:14 (10:14)
UID:SM-B15640@npb.nl
PRIORITY:5
SEQUENCE:1
CATEGORIES:SPORT
DTSTAMP:20260425T004847
BEGIN:VALARM
ACTION:DISPLAY
TRIGGER:-PT2H
END:VALARM
END:VEVENT
BEGIN:VEVENT
CLASS:PUBLIC
DTSTART:20191120T190000Z
DURATION:PT2H30M
STATUS:CONFIRMED
SUMMARY:de Reunie-B vs. de Lounge-A
DESCRIPTION:2e League G (8. Speeldag)\nErgebnis: 10:14 (10:14)
UID:SM-B15647@npb.nl
PRIORITY:5
SEQUENCE:1
CATEGORIES:SPORT
DTSTAMP:20260425T004847
BEGIN:VALARM
ACTION:DISPLAY
TRIGGER:-PT2H
END:VALARM
END:VEVENT
BEGIN:VEVENT
CLASS:PUBLIC
DTSTART:20191127T190000Z
DURATION:PT2H30M
STATUS:CONFIRMED
SUMMARY:de Reunie-B vs. Kroegje-B
DESCRIPTION:2e League G (9. Speeldag)\nErgebnis: 8:16 (8:16)
UID:SM-B15654@npb.nl
PRIORITY:5
SEQUENCE:1
CATEGORIES:SPORT
DTSTAMP:20260425T004847
BEGIN:VALARM
ACTION:DISPLAY
TRIGGER:-PT2H
END:VALARM
END:VEVENT
BEGIN:VEVENT
CLASS:PUBLIC
DTSTART:20191203T190000Z
DURATION:PT2H30M
STATUS:CONFIRMED
SUMMARY:Slek-B vs. de Reunie-B
DESCRIPTION:2e League G (10. Speeldag)\nErgebnis: 22:2 (22:2)
UID:SM-B15657@npb.nl
PRIORITY:5
SEQUENCE:1
CATEGORIES:SPORT
DTSTAMP:20260425T004847
BEGIN:VALARM
ACTION:DISPLAY
TRIGGER:-PT2H
END:VALARM
END:VEVENT
BEGIN:VEVENT
CLASS:PUBLIC
DTSTART:20191218T190000Z
DURATION:PT2H30M
STATUS:CONFIRMED
SUMMARY:de Reunie-B vs. Oud Spaans-G
DESCRIPTION:2e League G (11. Speeldag)\nErgebnis: 10:14 (10:14)
LOCATION:café-zaal De Reunie, Wilhelminastraat 1, 6161 SX Geleen-06-14227438 / Ma-Di gesloten
UID:SM-B15666@npb.nl
PRIORITY:5
SEQUENCE:1
CATEGORIES:SPORT
DTSTAMP:20260425T004847
BEGIN:VALARM
ACTION:DISPLAY
TRIGGER:-PT2H
END:VALARM
END:VEVENT
BEGIN:VEVENT
CLASS:PUBLIC
DTSTART:20200115T190000Z
DURATION:PT2H30M
STATUS:CONFIRMED
SUMMARY:de Reunie-B vs. Oud Spaans-D
DESCRIPTION:2e League G (12. Speeldag)\nErgebnis: 10:14 (10:14)
UID:SM-B15672@npb.nl
PRIORITY:5
SEQUENCE:1
CATEGORIES:SPORT
DTSTAMP:20260425T004847
BEGIN:VALARM
ACTION:DISPLAY
TRIGGER:-PT2H
END:VALARM
END:VEVENT
BEGIN:VEVENT
CLASS:PUBLIC
DTSTART:20200122T190000Z
DURATION:PT2H30M
STATUS:CONFIRMED
SUMMARY:In de Vrie-D vs. de Reunie-B
DESCRIPTION:2e League G (13. Speeldag)\nErgebnis: 12:12 (12:12)
UID:SM-B15676@npb.nl
PRIORITY:5
SEQUENCE:1
CATEGORIES:SPORT
DTSTAMP:20260425T004847
BEGIN:VALARM
ACTION:DISPLAY
TRIGGER:-PT2H
END:VALARM
END:VEVENT
BEGIN:VEVENT
CLASS:PUBLIC
DTSTART:20200129T190000Z
DURATION:PT2H30M
STATUS:CONFIRMED
SUMMARY:de Reunie-B vs. de Reunie-D
DESCRIPTION:2e League G (14. Speeldag)\nErgebnis: 10:14 (10:14)
UID:SM-B15684@npb.nl
PRIORITY:5
SEQUENCE:1
CATEGORIES:SPORT
DTSTAMP:20260425T004847
BEGIN:VALARM
ACTION:DISPLAY
TRIGGER:-PT2H
END:VALARM
END:VEVENT
BEGIN:VEVENT
CLASS:PUBLIC
DTSTART:20200205T190000Z
DURATION:PT2H30M
STATUS:CONFIRMED
SUMMARY:de Sjloes-E vs. de Reunie-B
DESCRIPTION:2e League G (15. Speeldag)\nErgebnis: 4:20 (4:20)
UID:SM-B15687@npb.nl
PRIORITY:5
SEQUENCE:1
CATEGORIES:SPORT
DTSTAMP:20260425T004847
BEGIN:VALARM
ACTION:DISPLAY
TRIGGER:-PT2H
END:VALARM
END:VEVENT
BEGIN:VEVENT
CLASS:PUBLIC
DTSTART:20200311T190000Z
DURATION:PT2H30M
STATUS:CONFIRMED
SUMMARY:de Reunie-B vs. Mofert-A
DESCRIPTION:2e League G (16. Speeldag)\nErgebnis: 16:8 (16:8)
UID:SM-B15694@npb.nl
PRIORITY:5
SEQUENCE:1
CATEGORIES:SPORT
DTSTAMP:20260425T004847
BEGIN:VALARM
ACTION:DISPLAY
TRIGGER:-PT2H
END:VALARM
END:VEVENT
END:VCALENDAR
