BEGIN:VCALENDAR
VERSION:2.0
PRODID:PHP
METHOD:REQUEST
X-ORIGINAL-URL:http://npb.nl/uitslag?task=team_begegnungen_ical&id=366
X-WR-CALNAME;VALUE=TEXT:In de Vrie-D
BEGIN:VEVENT
CLASS:PUBLIC
DTSTART:20190925T180000Z
DURATION:PT2H30M
STATUS:CONFIRMED
SUMMARY:In de Vrie-D vs. t Centrum-A
DESCRIPTION:2e League G (1. Speeldag)\nErgebnis: 6:18 (6:18)
UID:SM-B15604@npb.nl
PRIORITY:5
SEQUENCE:1
CATEGORIES:SPORT
DTSTAMP:20260425T005343
BEGIN:VALARM
ACTION:DISPLAY
TRIGGER:-PT2H
END:VALARM
END:VEVENT
BEGIN:VEVENT
CLASS:PUBLIC
DTSTART:20191002T180000Z
DURATION:PT2H30M
STATUS:CONFIRMED
SUMMARY:de Reunie-B vs. In de Vrie-D
DESCRIPTION:2e League G (2. Speeldag)\nErgebnis: 18:6 (18:6)
UID:SM-B15612@npb.nl
PRIORITY:5
SEQUENCE:1
CATEGORIES:SPORT
DTSTAMP:20260425T005343
BEGIN:VALARM
ACTION:DISPLAY
TRIGGER:-PT2H
END:VALARM
END:VEVENT
BEGIN:VEVENT
CLASS:PUBLIC
DTSTART:20191009T180000Z
DURATION:PT2H30M
STATUS:CONFIRMED
SUMMARY:In de Vrie-D vs. Kroegje-B
DESCRIPTION:2e League G (3. Speeldag)\nErgebnis: 6:18 (6:18)
UID:SM-B15616@npb.nl
PRIORITY:5
SEQUENCE:1
CATEGORIES:SPORT
DTSTAMP:20260425T005343
BEGIN:VALARM
ACTION:DISPLAY
TRIGGER:-PT2H
END:VALARM
END:VEVENT
BEGIN:VEVENT
CLASS:PUBLIC
DTSTART:20191022T180000Z
DURATION:PT2H30M
STATUS:CONFIRMED
SUMMARY:Slek-B vs. In de Vrie-D
DESCRIPTION:2e League G (4. Speeldag)\nErgebnis: 18:6 (18:6)
UID:SM-B15622@npb.nl
PRIORITY:5
SEQUENCE:1
CATEGORIES:SPORT
DTSTAMP:20260425T005343
BEGIN:VALARM
ACTION:DISPLAY
TRIGGER:-PT2H
END:VALARM
END:VEVENT
BEGIN:VEVENT
CLASS:PUBLIC
DTSTART:20191030T190000Z
DURATION:PT2H30M
STATUS:CONFIRMED
SUMMARY:In de Vrie-D vs. Oud Spaans-G
DESCRIPTION:2e League G (5. Speeldag)\nErgebnis: 16:8 (16:8)
UID:SM-B15629@npb.nl
PRIORITY:5
SEQUENCE:1
CATEGORIES:SPORT
DTSTAMP:20260425T005343
BEGIN:VALARM
ACTION:DISPLAY
TRIGGER:-PT2H
END:VALARM
END:VEVENT
BEGIN:VEVENT
CLASS:PUBLIC
DTSTART:20191107T190000Z
DURATION:PT2H30M
STATUS:CONFIRMED
SUMMARY:Oud Spaans-D vs. In de Vrie-D
DESCRIPTION:2e League G (6. Speeldag)\nErgebnis: 16:8 (16:8)
UID:SM-B15636@npb.nl
PRIORITY:5
SEQUENCE:1
CATEGORIES:SPORT
DTSTAMP:20260425T005343
BEGIN:VALARM
ACTION:DISPLAY
TRIGGER:-PT2H
END:VALARM
END:VEVENT
BEGIN:VEVENT
CLASS:PUBLIC
DTSTART:20191114T190000Z
DURATION:PT2H30M
STATUS:CONFIRMED
SUMMARY:de Lounge-A vs. In de Vrie-D
DESCRIPTION:2e League G (7. Speeldag)\nErgebnis: 20:4 (20:4)
UID:SM-B15642@npb.nl
PRIORITY:5
SEQUENCE:1
CATEGORIES:SPORT
DTSTAMP:20260425T005343
BEGIN:VALARM
ACTION:DISPLAY
TRIGGER:-PT2H
END:VALARM
END:VEVENT
BEGIN:VEVENT
CLASS:PUBLIC
DTSTART:20191120T190000Z
DURATION:PT2H30M
STATUS:CONFIRMED
SUMMARY:In de Vrie-D vs. de Reunie-D
DESCRIPTION:2e League G (8. Speeldag)\nErgebnis: 8:16 (8:16)
UID:SM-B15646@npb.nl
PRIORITY:5
SEQUENCE:1
CATEGORIES:SPORT
DTSTAMP:20260425T005343
BEGIN:VALARM
ACTION:DISPLAY
TRIGGER:-PT2H
END:VALARM
END:VEVENT
BEGIN:VEVENT
CLASS:PUBLIC
DTSTART:20191127T190000Z
DURATION:PT2H30M
STATUS:CONFIRMED
SUMMARY:de Sjloes-E vs. In de Vrie-D
DESCRIPTION:2e League G (9. Speeldag)\nErgebnis: 12:12 (12:12)
UID:SM-B15652@npb.nl
PRIORITY:5
SEQUENCE:1
CATEGORIES:SPORT
DTSTAMP:20260425T005343
BEGIN:VALARM
ACTION:DISPLAY
TRIGGER:-PT2H
END:VALARM
END:VEVENT
BEGIN:VEVENT
CLASS:PUBLIC
DTSTART:20191204T190000Z
DURATION:PT2H30M
STATUS:CONFIRMED
SUMMARY:In de Vrie-D vs. Mofert-A
DESCRIPTION:2e League G (10. Speeldag)\nErgebnis: 16:8 (16:8)
UID:SM-B15658@npb.nl
PRIORITY:5
SEQUENCE:1
CATEGORIES:SPORT
DTSTAMP:20260425T005343
BEGIN:VALARM
ACTION:DISPLAY
TRIGGER:-PT2H
END:VALARM
END:VEVENT
BEGIN:VEVENT
CLASS:PUBLIC
DTSTART:20191209T190000Z
DURATION:PT2H30M
STATUS:CONFIRMED
SUMMARY:`t Volkshoes-A vs. In de Vrie-D
DESCRIPTION:2e League G (11. Speeldag)\nErgebnis: 14:10 (14:10)
UID:SM-B15663@npb.nl
PRIORITY:5
SEQUENCE:1
CATEGORIES:SPORT
DTSTAMP:20260425T005343
BEGIN:VALARM
ACTION:DISPLAY
TRIGGER:-PT2H
END:VALARM
END:VEVENT
BEGIN:VEVENT
CLASS:PUBLIC
DTSTART:20200115T190000Z
DURATION:PT2H30M
STATUS:CONFIRMED
SUMMARY:t Centrum-A vs. In de Vrie-D
DESCRIPTION:2e League G (12. Speeldag)\nErgebnis: 20:4 (20:4)
UID:SM-B15671@npb.nl
PRIORITY:5
SEQUENCE:1
CATEGORIES:SPORT
DTSTAMP:20260425T005343
BEGIN:VALARM
ACTION:DISPLAY
TRIGGER:-PT2H
END:VALARM
END:VEVENT
BEGIN:VEVENT
CLASS:PUBLIC
DTSTART:20200122T190000Z
DURATION:PT2H30M
STATUS:CONFIRMED
SUMMARY:In de Vrie-D vs. de Reunie-B
DESCRIPTION:2e League G (13. Speeldag)\nErgebnis: 12:12 (12:12)
UID:SM-B15676@npb.nl
PRIORITY:5
SEQUENCE:1
CATEGORIES:SPORT
DTSTAMP:20260425T005343
BEGIN:VALARM
ACTION:DISPLAY
TRIGGER:-PT2H
END:VALARM
END:VEVENT
BEGIN:VEVENT
CLASS:PUBLIC
DTSTART:20200205T190000Z
DURATION:PT2H30M
STATUS:CONFIRMED
SUMMARY:In de Vrie-D vs. Slek-B
DESCRIPTION:2e League G (15. Speeldag)\nErgebnis: 8:16 (8:16)
UID:SM-B15688@npb.nl
PRIORITY:5
SEQUENCE:1
CATEGORIES:SPORT
DTSTAMP:20260425T005343
BEGIN:VALARM
ACTION:DISPLAY
TRIGGER:-PT2H
END:VALARM
END:VEVENT
BEGIN:VEVENT
CLASS:PUBLIC
DTSTART:20200214T190000Z
DURATION:PT2H30M
STATUS:CONFIRMED
SUMMARY:Kroegje-B vs. In de Vrie-D
DESCRIPTION:2e League G (14. Speeldag)\nErgebnis: 14:10 (14:10)
UID:SM-B15685@npb.nl
PRIORITY:5
SEQUENCE:1
CATEGORIES:SPORT
DTSTAMP:20260425T005343
BEGIN:VALARM
ACTION:DISPLAY
TRIGGER:-PT2H
END:VALARM
END:VEVENT
BEGIN:VEVENT
CLASS:PUBLIC
DTSTART:20200313T190000Z
DURATION:PT2H30M
STATUS:CONFIRMED
SUMMARY:Oud Spaans-G vs. In de Vrie-D
DESCRIPTION:2e League G (16. Speeldag)\nErgebnis: 16:8 (16:8)
UID:SM-B15698@npb.nl
PRIORITY:5
SEQUENCE:1
CATEGORIES:SPORT
DTSTAMP:20260425T005343
BEGIN:VALARM
ACTION:DISPLAY
TRIGGER:-PT2H
END:VALARM
END:VEVENT
END:VCALENDAR
