BEGIN:VCALENDAR
VERSION:2.0
PRODID:PHP
METHOD:REQUEST
X-ORIGINAL-URL:http://npb.nl/uitslag?task=team_begegnungen_ical&id=364
X-WR-CALNAME;VALUE=TEXT:Kroegje-B
BEGIN:VEVENT
CLASS:PUBLIC
DTSTART:20190927T180000Z
DURATION:PT2H30M
STATUS:CONFIRMED
SUMMARY:Oud Spaans-G vs. Kroegje-B
DESCRIPTION:2e League G (1. Speeldag)\nErgebnis: 14:10 (14:10)
UID:SM-B15607@npb.nl
PRIORITY:5
SEQUENCE:1
CATEGORIES:SPORT
DTSTAMP:20260424T233032
BEGIN:VALARM
ACTION:DISPLAY
TRIGGER:-PT2H
END:VALARM
END:VEVENT
BEGIN:VEVENT
CLASS:PUBLIC
DTSTART:20191004T180000Z
DURATION:PT2H30M
STATUS:CONFIRMED
SUMMARY:Kroegje-B vs. Oud Spaans-D
DESCRIPTION:2e League G (2. Speeldag)\nErgebnis: 14:10 (14:10)
UID:SM-B15614@npb.nl
PRIORITY:5
SEQUENCE:1
CATEGORIES:SPORT
DTSTAMP:20260424T233032
BEGIN:VALARM
ACTION:DISPLAY
TRIGGER:-PT2H
END:VALARM
END:VEVENT
BEGIN:VEVENT
CLASS:PUBLIC
DTSTART:20191009T180000Z
DURATION:PT2H30M
STATUS:CONFIRMED
SUMMARY:In de Vrie-D vs. Kroegje-B
DESCRIPTION:2e League G (3. Speeldag)\nErgebnis: 6:18 (6:18)
UID:SM-B15616@npb.nl
PRIORITY:5
SEQUENCE:1
CATEGORIES:SPORT
DTSTAMP:20260424T233032
BEGIN:VALARM
ACTION:DISPLAY
TRIGGER:-PT2H
END:VALARM
END:VEVENT
BEGIN:VEVENT
CLASS:PUBLIC
DTSTART:20191025T180000Z
DURATION:PT2H30M
STATUS:CONFIRMED
SUMMARY:Kroegje-B vs. de Reunie-D
DESCRIPTION:2e League G (4. Speeldag)\nErgebnis: 20:4 (20:4)
UID:SM-B15625@npb.nl
PRIORITY:5
SEQUENCE:1
CATEGORIES:SPORT
DTSTAMP:20260424T233032
BEGIN:VALARM
ACTION:DISPLAY
TRIGGER:-PT2H
END:VALARM
END:VEVENT
BEGIN:VEVENT
CLASS:PUBLIC
DTSTART:20191030T190000Z
DURATION:PT2H30M
STATUS:CONFIRMED
SUMMARY:de Sjloes-E vs. Kroegje-B
DESCRIPTION:2e League G (5. Speeldag)\nErgebnis: 8:16 (8:16)
UID:SM-B15628@npb.nl
PRIORITY:5
SEQUENCE:1
CATEGORIES:SPORT
DTSTAMP:20260424T233032
BEGIN:VALARM
ACTION:DISPLAY
TRIGGER:-PT2H
END:VALARM
END:VEVENT
BEGIN:VEVENT
CLASS:PUBLIC
DTSTART:20191108T190000Z
DURATION:PT2H30M
STATUS:CONFIRMED
SUMMARY:Kroegje-B vs. Mofert-A
DESCRIPTION:2e League G (6. Speeldag)\nErgebnis: 24:0 (24:0)
UID:SM-B15637@npb.nl
PRIORITY:5
SEQUENCE:1
CATEGORIES:SPORT
DTSTAMP:20260424T233032
BEGIN:VALARM
ACTION:DISPLAY
TRIGGER:-PT2H
END:VALARM
END:VEVENT
BEGIN:VEVENT
CLASS:PUBLIC
DTSTART:20191111T190000Z
DURATION:PT2H30M
STATUS:CONFIRMED
SUMMARY:`t Volkshoes-A vs. Kroegje-B
DESCRIPTION:2e League G (7. Speeldag)\nErgebnis: 8:16 (8:16)
UID:SM-B15639@npb.nl
PRIORITY:5
SEQUENCE:1
CATEGORIES:SPORT
DTSTAMP:20260424T233032
BEGIN:VALARM
ACTION:DISPLAY
TRIGGER:-PT2H
END:VALARM
END:VEVENT
BEGIN:VEVENT
CLASS:PUBLIC
DTSTART:20191122T190000Z
DURATION:PT2H30M
STATUS:CONFIRMED
SUMMARY:Kroegje-B vs. t Centrum-A
DESCRIPTION:2e League G (8. Speeldag)\nErgebnis: 16:8 (16:8)
UID:SM-B15650@npb.nl
PRIORITY:5
SEQUENCE:1
CATEGORIES:SPORT
DTSTAMP:20260424T233032
BEGIN:VALARM
ACTION:DISPLAY
TRIGGER:-PT2H
END:VALARM
END:VEVENT
BEGIN:VEVENT
CLASS:PUBLIC
DTSTART:20191127T190000Z
DURATION:PT2H30M
STATUS:CONFIRMED
SUMMARY:de Reunie-B vs. Kroegje-B
DESCRIPTION:2e League G (9. Speeldag)\nErgebnis: 8:16 (8:16)
UID:SM-B15654@npb.nl
PRIORITY:5
SEQUENCE:1
CATEGORIES:SPORT
DTSTAMP:20260424T233032
BEGIN:VALARM
ACTION:DISPLAY
TRIGGER:-PT2H
END:VALARM
END:VEVENT
BEGIN:VEVENT
CLASS:PUBLIC
DTSTART:20191205T190000Z
DURATION:PT2H30M
STATUS:CONFIRMED
SUMMARY:de Lounge-A vs. Kroegje-B
DESCRIPTION:2e League G (10. Speeldag)\nErgebnis: 10:14 (10:14)
UID:SM-B15660@npb.nl
PRIORITY:5
SEQUENCE:1
CATEGORIES:SPORT
DTSTAMP:20260424T233032
BEGIN:VALARM
ACTION:DISPLAY
TRIGGER:-PT2H
END:VALARM
END:VEVENT
BEGIN:VEVENT
CLASS:PUBLIC
DTSTART:20191213T190000Z
DURATION:PT2H30M
STATUS:CONFIRMED
SUMMARY:Kroegje-B vs. Slek-B
DESCRIPTION:2e League G (11. Speeldag)\nErgebnis: 8:16 (8:16)
UID:SM-B15668@npb.nl
PRIORITY:5
SEQUENCE:1
CATEGORIES:SPORT
DTSTAMP:20260424T233032
BEGIN:VALARM
ACTION:DISPLAY
TRIGGER:-PT2H
END:VALARM
END:VEVENT
BEGIN:VEVENT
CLASS:PUBLIC
DTSTART:20200117T190000Z
DURATION:PT2H30M
STATUS:CONFIRMED
SUMMARY:Kroegje-B vs. Oud Spaans-G
DESCRIPTION:2e League G (12. Speeldag)\nErgebnis: 20:4 (20:4)
UID:SM-B15673@npb.nl
PRIORITY:5
SEQUENCE:1
CATEGORIES:SPORT
DTSTAMP:20260424T233032
BEGIN:VALARM
ACTION:DISPLAY
TRIGGER:-PT2H
END:VALARM
END:VEVENT
BEGIN:VEVENT
CLASS:PUBLIC
DTSTART:20200123T190000Z
DURATION:PT2H30M
STATUS:CONFIRMED
SUMMARY:Oud Spaans-D vs. Kroegje-B
DESCRIPTION:2e League G (13. Speeldag)\nErgebnis: 10:14 (10:14)
UID:SM-B15678@npb.nl
PRIORITY:5
SEQUENCE:1
CATEGORIES:SPORT
DTSTAMP:20260424T233032
BEGIN:VALARM
ACTION:DISPLAY
TRIGGER:-PT2H
END:VALARM
END:VEVENT
BEGIN:VEVENT
CLASS:PUBLIC
DTSTART:20200207T190000Z
DURATION:PT2H30M
STATUS:CONFIRMED
SUMMARY:de Reunie-D vs. Kroegje-B
DESCRIPTION:2e League G (15. Speeldag)\nErgebnis: 14:10 (14:10)
UID:SM-B15692@npb.nl
PRIORITY:5
SEQUENCE:1
CATEGORIES:SPORT
DTSTAMP:20260424T233032
BEGIN:VALARM
ACTION:DISPLAY
TRIGGER:-PT2H
END:VALARM
END:VEVENT
BEGIN:VEVENT
CLASS:PUBLIC
DTSTART:20200214T190000Z
DURATION:PT2H30M
STATUS:CONFIRMED
SUMMARY:Kroegje-B vs. In de Vrie-D
DESCRIPTION:2e League G (14. Speeldag)\nErgebnis: 14:10 (14:10)
UID:SM-B15685@npb.nl
PRIORITY:5
SEQUENCE:1
CATEGORIES:SPORT
DTSTAMP:20260424T233032
BEGIN:VALARM
ACTION:DISPLAY
TRIGGER:-PT2H
END:VALARM
END:VEVENT
BEGIN:VEVENT
CLASS:PUBLIC
DTSTART:20200313T190000Z
DURATION:PT2H30M
STATUS:CONFIRMED
SUMMARY:Kroegje-B vs. de Sjloes-E
DESCRIPTION:2e League G (16. Speeldag)\nErgebnis: 18:6 (18:6)
UID:SM-B15697@npb.nl
PRIORITY:5
SEQUENCE:1
CATEGORIES:SPORT
DTSTAMP:20260424T233032
BEGIN:VALARM
ACTION:DISPLAY
TRIGGER:-PT2H
END:VALARM
END:VEVENT
END:VCALENDAR
