BEGIN:VCALENDAR
VERSION:2.0
PRODID:PHP
METHOD:REQUEST
X-ORIGINAL-URL:http://npb.nl/uitslag?task=team_begegnungen_ical&id=362
X-WR-CALNAME;VALUE=TEXT:Oud Spaans-G
BEGIN:VEVENT
CLASS:PUBLIC
DTSTART:20190927T180000Z
DURATION:PT2H30M
STATUS:CONFIRMED
SUMMARY:Oud Spaans-G vs. Kroegje-B
DESCRIPTION:2e League G (1. Speeldag)\nErgebnis: 14:10 (14:10)
UID:SM-B15607@npb.nl
PRIORITY:5
SEQUENCE:1
CATEGORIES:SPORT
DTSTAMP:20260424T233455
BEGIN:VALARM
ACTION:DISPLAY
TRIGGER:-PT2H
END:VALARM
END:VEVENT
BEGIN:VEVENT
CLASS:PUBLIC
DTSTART:20191001T180000Z
DURATION:PT2H30M
STATUS:CONFIRMED
SUMMARY:Slek-B vs. Oud Spaans-G
DESCRIPTION:2e League G (2. Speeldag)\nErgebnis: 16:8 (16:8)
UID:SM-B15610@npb.nl
PRIORITY:5
SEQUENCE:1
CATEGORIES:SPORT
DTSTAMP:20260424T233455
BEGIN:VALARM
ACTION:DISPLAY
TRIGGER:-PT2H
END:VALARM
END:VEVENT
BEGIN:VEVENT
CLASS:PUBLIC
DTSTART:20191010T180000Z
DURATION:PT2H30M
STATUS:CONFIRMED
SUMMARY:de Lounge-A vs. Oud Spaans-G
DESCRIPTION:2e League G (3. Speeldag)\nErgebnis: 12:12 (12:12)
UID:SM-B15618@npb.nl
PRIORITY:5
SEQUENCE:1
CATEGORIES:SPORT
DTSTAMP:20260424T233455
BEGIN:VALARM
ACTION:DISPLAY
TRIGGER:-PT2H
END:VALARM
END:VEVENT
BEGIN:VEVENT
CLASS:PUBLIC
DTSTART:20191025T180000Z
DURATION:PT2H30M
STATUS:CONFIRMED
SUMMARY:Oud Spaans-G vs. Oud Spaans-D
DESCRIPTION:2e League G (4. Speeldag)\nErgebnis: 8:16 (8:16)
UID:SM-B15626@npb.nl
PRIORITY:5
SEQUENCE:1
CATEGORIES:SPORT
DTSTAMP:20260424T233455
BEGIN:VALARM
ACTION:DISPLAY
TRIGGER:-PT2H
END:VALARM
END:VEVENT
BEGIN:VEVENT
CLASS:PUBLIC
DTSTART:20191030T190000Z
DURATION:PT2H30M
STATUS:CONFIRMED
SUMMARY:In de Vrie-D vs. Oud Spaans-G
DESCRIPTION:2e League G (5. Speeldag)\nErgebnis: 16:8 (16:8)
UID:SM-B15629@npb.nl
PRIORITY:5
SEQUENCE:1
CATEGORIES:SPORT
DTSTAMP:20260424T233455
BEGIN:VALARM
ACTION:DISPLAY
TRIGGER:-PT2H
END:VALARM
END:VEVENT
BEGIN:VEVENT
CLASS:PUBLIC
DTSTART:20191108T190000Z
DURATION:PT2H30M
STATUS:CONFIRMED
SUMMARY:Oud Spaans-G vs. de Reunie-D
DESCRIPTION:2e League G (6. Speeldag)\nErgebnis: 14:10 (14:10)
UID:SM-B15638@npb.nl
PRIORITY:5
SEQUENCE:1
CATEGORIES:SPORT
DTSTAMP:20260424T233455
BEGIN:VALARM
ACTION:DISPLAY
TRIGGER:-PT2H
END:VALARM
END:VEVENT
BEGIN:VEVENT
CLASS:PUBLIC
DTSTART:20191113T190000Z
DURATION:PT2H30M
STATUS:CONFIRMED
SUMMARY:de Sjloes-E vs. Oud Spaans-G
DESCRIPTION:2e League G (7. Speeldag)\nErgebnis: 12:12 (12:12)
UID:SM-B15641@npb.nl
PRIORITY:5
SEQUENCE:1
CATEGORIES:SPORT
DTSTAMP:20260424T233455
BEGIN:VALARM
ACTION:DISPLAY
TRIGGER:-PT2H
END:VALARM
END:VEVENT
BEGIN:VEVENT
CLASS:PUBLIC
DTSTART:20191122T190000Z
DURATION:PT2H30M
STATUS:CONFIRMED
SUMMARY:Oud Spaans-G vs. Mofert-A
DESCRIPTION:2e League G (8. Speeldag)\nErgebnis: 14:10 (14:10)
UID:SM-B15649@npb.nl
PRIORITY:5
SEQUENCE:1
CATEGORIES:SPORT
DTSTAMP:20260424T233455
BEGIN:VALARM
ACTION:DISPLAY
TRIGGER:-PT2H
END:VALARM
END:VEVENT
BEGIN:VEVENT
CLASS:PUBLIC
DTSTART:20191125T190000Z
DURATION:PT2H30M
STATUS:CONFIRMED
SUMMARY:`t Volkshoes-A vs. Oud Spaans-G
DESCRIPTION:2e League G (9. Speeldag)\nErgebnis: 4:20 (4:20)
UID:SM-B15651@npb.nl
PRIORITY:5
SEQUENCE:1
CATEGORIES:SPORT
DTSTAMP:20260424T233455
BEGIN:VALARM
ACTION:DISPLAY
TRIGGER:-PT2H
END:VALARM
END:VEVENT
BEGIN:VEVENT
CLASS:PUBLIC
DTSTART:20191206T190000Z
DURATION:PT2H30M
STATUS:CONFIRMED
SUMMARY:Oud Spaans-G vs. t Centrum-A
DESCRIPTION:2e League G (10. Speeldag)\nErgebnis: 2:22 (2:22)
UID:SM-B15661@npb.nl
PRIORITY:5
SEQUENCE:1
CATEGORIES:SPORT
DTSTAMP:20260424T233455
BEGIN:VALARM
ACTION:DISPLAY
TRIGGER:-PT2H
END:VALARM
END:VEVENT
BEGIN:VEVENT
CLASS:PUBLIC
DTSTART:20191218T190000Z
DURATION:PT2H30M
STATUS:CONFIRMED
SUMMARY:de Reunie-B vs. Oud Spaans-G
DESCRIPTION:2e League G (11. Speeldag)\nErgebnis: 10:14 (10:14)
LOCATION:café-zaal De Reunie, Wilhelminastraat 1, 6161 SX Geleen-06-14227438 / Ma-Di gesloten
UID:SM-B15666@npb.nl
PRIORITY:5
SEQUENCE:1
CATEGORIES:SPORT
DTSTAMP:20260424T233455
BEGIN:VALARM
ACTION:DISPLAY
TRIGGER:-PT2H
END:VALARM
END:VEVENT
BEGIN:VEVENT
CLASS:PUBLIC
DTSTART:20200117T190000Z
DURATION:PT2H30M
STATUS:CONFIRMED
SUMMARY:Kroegje-B vs. Oud Spaans-G
DESCRIPTION:2e League G (12. Speeldag)\nErgebnis: 20:4 (20:4)
UID:SM-B15673@npb.nl
PRIORITY:5
SEQUENCE:1
CATEGORIES:SPORT
DTSTAMP:20260424T233455
BEGIN:VALARM
ACTION:DISPLAY
TRIGGER:-PT2H
END:VALARM
END:VEVENT
BEGIN:VEVENT
CLASS:PUBLIC
DTSTART:20200124T190000Z
DURATION:PT2H30M
STATUS:CONFIRMED
SUMMARY:Oud Spaans-G vs. Slek-B
DESCRIPTION:2e League G (13. Speeldag)\nErgebnis: 12:12 (12:12)
UID:SM-B15679@npb.nl
PRIORITY:5
SEQUENCE:1
CATEGORIES:SPORT
DTSTAMP:20260424T233455
BEGIN:VALARM
ACTION:DISPLAY
TRIGGER:-PT2H
END:VALARM
END:VEVENT
BEGIN:VEVENT
CLASS:PUBLIC
DTSTART:20200204T190000Z
DURATION:PT2H30M
STATUS:CONFIRMED
SUMMARY:Oud Spaans-G vs. de Lounge-A
DESCRIPTION:2e League G (14. Speeldag)\nErgebnis: 8:16 (8:16)
LOCATION:café Oud Spaans, Spaans Neerbeek 8, 6164 CJ Geleen-06-40765851 / Geen sluiting
UID:SM-B15686@npb.nl
PRIORITY:5
SEQUENCE:1
CATEGORIES:SPORT
DTSTAMP:20260424T233455
BEGIN:VALARM
ACTION:DISPLAY
TRIGGER:-PT2H
END:VALARM
END:VEVENT
BEGIN:VEVENT
CLASS:PUBLIC
DTSTART:20200206T190000Z
DURATION:PT2H30M
STATUS:CONFIRMED
SUMMARY:Oud Spaans-D vs. Oud Spaans-G
DESCRIPTION:2e League G (15. Speeldag)\nErgebnis: 8:16 (8:16)
UID:SM-B15689@npb.nl
PRIORITY:5
SEQUENCE:1
CATEGORIES:SPORT
DTSTAMP:20260424T233455
BEGIN:VALARM
ACTION:DISPLAY
TRIGGER:-PT2H
END:VALARM
END:VEVENT
BEGIN:VEVENT
CLASS:PUBLIC
DTSTART:20200313T190000Z
DURATION:PT2H30M
STATUS:CONFIRMED
SUMMARY:Oud Spaans-G vs. In de Vrie-D
DESCRIPTION:2e League G (16. Speeldag)\nErgebnis: 16:8 (16:8)
UID:SM-B15698@npb.nl
PRIORITY:5
SEQUENCE:1
CATEGORIES:SPORT
DTSTAMP:20260424T233455
BEGIN:VALARM
ACTION:DISPLAY
TRIGGER:-PT2H
END:VALARM
END:VEVENT
END:VCALENDAR
